BEGIN:VCALENDAR
VERSION:2.0
PRODID:-//Ontario Inter-Club Challenge - ECPv6.15.20//NONSGML v1.0//EN
CALSCALE:GREGORIAN
METHOD:PUBLISH
X-WR-CALNAME:Ontario Inter-Club Challenge
X-ORIGINAL-URL:https://inter-club.ca
X-WR-CALDESC:Events for Ontario Inter-Club Challenge
REFRESH-INTERVAL;VALUE=DURATION:PT1H
X-Robots-Tag:noindex
X-PUBLISHED-TTL:PT1H
BEGIN:VTIMEZONE
TZID:America/Toronto
BEGIN:DAYLIGHT
TZOFFSETFROM:-0500
TZOFFSETTO:-0400
TZNAME:EDT
DTSTART:20250309T070000
END:DAYLIGHT
BEGIN:STANDARD
TZOFFSETFROM:-0400
TZOFFSETTO:-0500
TZNAME:EST
DTSTART:20251102T060000
END:STANDARD
BEGIN:DAYLIGHT
TZOFFSETFROM:-0500
TZOFFSETTO:-0400
TZNAME:EDT
DTSTART:20260308T070000
END:DAYLIGHT
BEGIN:STANDARD
TZOFFSETFROM:-0400
TZOFFSETTO:-0500
TZNAME:EST
DTSTART:20261101T060000
END:STANDARD
BEGIN:DAYLIGHT
TZOFFSETFROM:-0500
TZOFFSETTO:-0400
TZNAME:EDT
DTSTART:20270314T070000
END:DAYLIGHT
BEGIN:STANDARD
TZOFFSETFROM:-0400
TZOFFSETTO:-0500
TZNAME:EST
DTSTART:20271107T060000
END:STANDARD
END:VTIMEZONE
BEGIN:VEVENT
DTSTART;VALUE=DATE:20260517
DTEND;VALUE=DATE:20260518
DTSTAMP:20260423T091615
CREATED:20260219T143401Z
LAST-MODIFIED:20260219T143401Z
UID:4951-1778976000-1779062399@inter-club.ca
SUMMARY:Round 1 - Goodwood Kartways
DESCRIPTION:Ontario Inter-Club Challenge Round 1 – Goodwood Kartways
URL:https://inter-club.ca/event/round-1-goodwood-kartways/
LOCATION:Goodwood Kartways\, 5200 Concession Rd\, Uxbridge\, Ontario\, L4A 7X4\, Canada
ATTACH;FMTTYPE=image/png:https://inter-club.ca/wp-content/uploads/2025/05/Untitled-design-87.png
END:VEVENT
BEGIN:VEVENT
DTSTART;VALUE=DATE:20260628
DTEND;VALUE=DATE:20260629
DTSTAMP:20260423T091615
CREATED:20260219T143502Z
LAST-MODIFIED:20260219T143502Z
UID:4953-1782604800-1782691199@inter-club.ca
SUMMARY:Round 2 - Mosport Karting Centre
DESCRIPTION:Ontario Inter-Club Challenge Round 2 – Mosport Karting Centre
URL:https://inter-club.ca/event/round-2-mosport-karting-centre/
LOCATION:Mosport Karting Complex\, 3233 Concession Rd #10\, Bowmanville\, Ontario\, L1C 3K6\, Canada
ATTACH;FMTTYPE=image/png:https://inter-club.ca/wp-content/uploads/2024/12/site-logo-3.png
END:VEVENT
BEGIN:VEVENT
DTSTART;VALUE=DATE:20260906
DTEND;VALUE=DATE:20260907
DTSTAMP:20260423T091615
CREATED:20260219T143606Z
LAST-MODIFIED:20260219T143606Z
UID:4955-1788652800-1788739199@inter-club.ca
SUMMARY:Round 3 - Hamilton Karting Complex
DESCRIPTION:Ontario Inter-Club Challenge Round 3 – Hamilton Karting Complex
URL:https://inter-club.ca/event/round-3-hamilton-karting-complex/
LOCATION:Hamilton Karting Complex\, 2633 Upper James St\, Hamilton\, Ontario\, Canada
ATTACH;FMTTYPE=image/png:https://inter-club.ca/wp-content/uploads/2024/12/site-logo-5.png
END:VEVENT
END:VCALENDAR